BEGIN:VCALENDAR
VERSION:2.0
PRODID:-//Fomento Fundación - ECPv6.15.11//NONSGML v1.0//EN
CALSCALE:GREGORIAN
METHOD:PUBLISH
X-ORIGINAL-URL:https://www.fomentofundacion.com
X-WR-CALDESC:Eventos para Fomento Fundación
REFRESH-INTERVAL;VALUE=DURATION:PT1H
X-Robots-Tag:noindex
X-PUBLISHED-TTL:PT1H
BEGIN:VTIMEZONE
TZID:Europe/Paris
BEGIN:DAYLIGHT
TZOFFSETFROM:+0100
TZOFFSETTO:+0200
TZNAME:CEST
DTSTART:20250330T010000
END:DAYLIGHT
BEGIN:STANDARD
TZOFFSETFROM:+0200
TZOFFSETTO:+0100
TZNAME:CET
DTSTART:20251026T010000
END:STANDARD
BEGIN:DAYLIGHT
TZOFFSETFROM:+0100
TZOFFSETTO:+0200
TZNAME:CEST
DTSTART:20260329T010000
END:DAYLIGHT
BEGIN:STANDARD
TZOFFSETFROM:+0200
TZOFFSETTO:+0100
TZNAME:CET
DTSTART:20261025T010000
END:STANDARD
BEGIN:DAYLIGHT
TZOFFSETFROM:+0100
TZOFFSETTO:+0200
TZNAME:CEST
DTSTART:20270328T010000
END:DAYLIGHT
BEGIN:STANDARD
TZOFFSETFROM:+0200
TZOFFSETTO:+0100
TZNAME:CET
DTSTART:20271031T010000
END:STANDARD
END:VTIMEZONE
BEGIN:VTIMEZONE
TZID:UTC
BEGIN:STANDARD
TZOFFSETFROM:+0000
TZOFFSETTO:+0000
TZNAME:UTC
DTSTART:20250101T000000
END:STANDARD
END:VTIMEZONE
BEGIN:VEVENT
DTSTART;TZID=Europe/Paris:20260415T151500
DTEND;TZID=Europe/Paris:20260415T163000
DTSTAMP:20260421T084658
CREATED:20260413T143614Z
LAST-MODIFIED:20260413T143642Z
UID:23673-1776266100-1776270600@www.fomentofundacion.com
SUMMARY:PaseArte Sesión S. XX "Picasso; El Guernica"
DESCRIPTION:Jornadas de arte para padres con el título PaseArte. Esta actividad consistirá en ocho sesiones que se realizarán una vez al mes en nuestro centro a las 15:15h\, y dos salidas (enero y mayo). \nTítulo: Historia del Arte a través de obras maestras de la pintura española. \n \n 
URL:https://www.fomentofundacion.com/evento/pasearte-sesion-s-xx-picasso/
CATEGORIES:1º Bachillerato,2º Bachillerato,Alumni
ATTACH;FMTTYPE=image/jpeg:https://www.fomentofundacion.com/wp-content/uploads/2025/10/CabeceraPasearte.jpg
END:VEVENT
BEGIN:VEVENT
DTSTART;VALUE=DATE:20260417
DTEND;VALUE=DATE:20260418
DTSTAMP:20260421T084658
CREATED:20251105T080052Z
LAST-MODIFIED:20260213T091522Z
UID:14497-1776384000-1776470399@www.fomentofundacion.com
SUMMARY:Acto de Graduación de los alumnos de 2º de Bachillerato
DESCRIPTION:El viernes 17 de abril\, tendrá lugar el Acto de Graduación e Imposición de Becas de la XXV Promoción de los alumnos de 2º de Bachillerato. En el Palacio Municipal de Congresos del Campo de las Naciones (Avda. Capital de España Madrid nº 7).
URL:https://www.fomentofundacion.com/evento/acto-academico-de-imposicion-de-becas-de-los-alumnos-de-2o-de-bachillerato/
LOCATION:Palacio Municipal de Congresos\, Avda. Capital de España Madrid nº 7\, Madrid\, Madrid\, 28042\, España
CATEGORIES:1º Bachillerato,2º Bachillerato,Alumni
ATTACH;FMTTYPE=image/jpeg:https://www.fomentofundacion.com/wp-content/uploads/2024/04/Grad-2025-001-min-0-scaled.jpg
END:VEVENT
BEGIN:VEVENT
DTSTART;VALUE=DATE:20260428
DTEND;VALUE=DATE:20260429
DTSTAMP:20260421T084658
CREATED:20260223T082954Z
LAST-MODIFIED:20260224T170300Z
UID:14123-1777334400-1777420799@www.fomentofundacion.com
SUMMARY:Exámenes Finales 2º de Bachillerato
DESCRIPTION:Exámenes Finales 2º de Bachillerato (28\, 30\, 4 y 5 de mayo)
URL:https://www.fomentofundacion.com/evento/examenes-finales-2o-de-bachillerato-3/
CATEGORIES:1º Bachillerato,2º Bachillerato
ATTACH;FMTTYPE=image/jpeg:https://www.fomentofundacion.com/wp-content/uploads/2017/12/Examnes18.jpg
END:VEVENT
BEGIN:VEVENT
DTSTART;VALUE=DATE:20260430
DTEND;VALUE=DATE:20260501
DTSTAMP:20260421T084658
CREATED:20251105T132230Z
LAST-MODIFIED:20251105T132235Z
UID:23093-1777507200-1777593599@www.fomentofundacion.com
SUMMARY:Exámenes de la 3ª Evaluación 1º de Bachillerato
DESCRIPTION:Exámenes de la 3ª Evaluación 1º de Bachillerato (30 de abril\, 4\, 6 y 8 de mayo)\n 
URL:https://www.fomentofundacion.com/evento/examenes-de-la-3a-evaluacion-1o-de-bachillerato-3/
CATEGORIES:1º Bachillerato,2º Bachillerato
ATTACH;FMTTYPE=image/jpeg:https://www.fomentofundacion.com/wp-content/uploads/2017/12/Examnes18.jpg
END:VEVENT
BEGIN:VEVENT
DTSTART;VALUE=DATE:20260430
DTEND;VALUE=DATE:20260501
DTSTAMP:20260421T084658
CREATED:20260224T170325Z
LAST-MODIFIED:20260224T170402Z
UID:23575-1777507200-1777593599@www.fomentofundacion.com
SUMMARY:Exámenes Finales 2º de Bachillerato
DESCRIPTION:Exámenes Finales 2º de Bachillerato (28\, 30\, 4 y 5 de mayo)
URL:https://www.fomentofundacion.com/evento/examenes-finales-2o-de-bachillerato-2/
CATEGORIES:1º Bachillerato,2º Bachillerato
ATTACH;FMTTYPE=image/jpeg:https://www.fomentofundacion.com/wp-content/uploads/2017/12/Examnes18.jpg
END:VEVENT
BEGIN:VEVENT
DTSTART;VALUE=DATE:20260501
DTEND;VALUE=DATE:20260503
DTSTAMP:20260421T084658
CREATED:20251105T092559Z
LAST-MODIFIED:20251105T132506Z
UID:15652-1777593600-1777766399@www.fomentofundacion.com
SUMMARY:San José Obrero y Comunidad de Madrid
DESCRIPTION:Festividad de San José Obrero y Comunidad de Madrid
URL:https://www.fomentofundacion.com/evento/san-jose-obrero-y-comunidad-de-madrid/
CATEGORIES:1º Bachillerato,2º Bachillerato
ATTACH;FMTTYPE=image/png:https://www.fomentofundacion.com/wp-content/uploads/2018/11/madrid-mapa.png
END:VEVENT
BEGIN:VEVENT
DTSTART;VALUE=DATE:20260504
DTEND;VALUE=DATE:20260505
DTSTAMP:20260421T084658
CREATED:20251105T132256Z
LAST-MODIFIED:20251105T132256Z
UID:23095-1777852800-1777939199@www.fomentofundacion.com
SUMMARY:Exámenes de la 3ª Evaluación 1º de Bachillerato
DESCRIPTION:Exámenes de la 3ª Evaluación 1º de Bachillerato (30 de abril\, 4\, 6 y 8 de mayo)\n 
URL:https://www.fomentofundacion.com/evento/examenes-de-la-3a-evaluacion-1o-de-bachillerato-4/
CATEGORIES:1º Bachillerato,2º Bachillerato
ATTACH;FMTTYPE=image/jpeg:https://www.fomentofundacion.com/wp-content/uploads/2017/12/Examnes18.jpg
END:VEVENT
BEGIN:VEVENT
DTSTART;VALUE=DATE:20260504
DTEND;VALUE=DATE:20260506
DTSTAMP:20260421T084658
CREATED:20260224T170436Z
LAST-MODIFIED:20260224T170634Z
UID:23577-1777852800-1778025599@www.fomentofundacion.com
SUMMARY:Exámenes Finales 2º de Bachillerato
DESCRIPTION:Exámenes Finales 2º de Bachillerato (28\, 30\, 4 y 5 de mayo)
URL:https://www.fomentofundacion.com/evento/examenes-finales-2o-de-bachillerato-6/
CATEGORIES:1º Bachillerato,2º Bachillerato
ATTACH;FMTTYPE=image/jpeg:https://www.fomentofundacion.com/wp-content/uploads/2017/12/Examnes18.jpg
END:VEVENT
BEGIN:VEVENT
DTSTART;VALUE=DATE:20260506
DTEND;VALUE=DATE:20260507
DTSTAMP:20260421T084658
CREATED:20251105T132308Z
LAST-MODIFIED:20251105T132308Z
UID:23097-1778025600-1778111999@www.fomentofundacion.com
SUMMARY:Exámenes de la 3ª Evaluación 1º de Bachillerato
DESCRIPTION:Exámenes de la 3ª Evaluación 1º de Bachillerato (30 de abril\, 4\, 6 y 8 de mayo)\n 
URL:https://www.fomentofundacion.com/evento/examenes-de-la-3a-evaluacion-1o-de-bachillerato-6/
CATEGORIES:1º Bachillerato,2º Bachillerato
ATTACH;FMTTYPE=image/jpeg:https://www.fomentofundacion.com/wp-content/uploads/2017/12/Examnes18.jpg
END:VEVENT
BEGIN:VEVENT
DTSTART;VALUE=DATE:20260508
DTEND;VALUE=DATE:20260509
DTSTAMP:20260421T084658
CREATED:20251105T132335Z
LAST-MODIFIED:20251105T132341Z
UID:23099-1778198400-1778284799@www.fomentofundacion.com
SUMMARY:Exámenes de la 3ª Evaluación 1º de Bachillerato
DESCRIPTION:Exámenes de la 3ª Evaluación 1º de Bachillerato (30 de abril\, 4\, 6 y 8 de mayo)\n 
URL:https://www.fomentofundacion.com/evento/examenes-de-la-3a-evaluacion-1o-de-bachillerato-7/
CATEGORIES:1º Bachillerato,2º Bachillerato
ATTACH;FMTTYPE=image/jpeg:https://www.fomentofundacion.com/wp-content/uploads/2017/12/Examnes18.jpg
END:VEVENT
BEGIN:VEVENT
DTSTART;VALUE=DATE:20260515
DTEND;VALUE=DATE:20260516
DTSTAMP:20260421T084658
CREATED:20251105T115126Z
LAST-MODIFIED:20251105T132621Z
UID:15656-1778803200-1778889599@www.fomentofundacion.com
SUMMARY:San Isidro Labrador
DESCRIPTION:Patrón de Madrid\, San Isidro Labrador
URL:https://www.fomentofundacion.com/evento/san-isidro-labrador/
CATEGORIES:1º Bachillerato,2º Bachillerato
ATTACH;FMTTYPE=image/png:https://www.fomentofundacion.com/wp-content/uploads/2018/11/SanIsidro.png
END:VEVENT
BEGIN:VEVENT
DTSTART;VALUE=DATE:20260601
DTEND;VALUE=DATE:20260606
DTSTAMP:20260421T084658
CREATED:20260211T090937Z
LAST-MODIFIED:20260213T091417Z
UID:20417-1780272000-1780703999@www.fomentofundacion.com
SUMMARY:Examenes de PAU (Convocatoria Ordinaria)
DESCRIPTION:PAU 2026 (Prueba de Acceso a la  Universidad)\n 
URL:https://www.fomentofundacion.com/evento/examenes-de-evau-convocatoria-extrordinaria/
CATEGORIES:1º Bachillerato,2º Bachillerato,Alumni
ATTACH;FMTTYPE=image/jpeg:https://www.fomentofundacion.com/wp-content/uploads/2025/05/PAU25.jpg
END:VEVENT
BEGIN:VEVENT
DTSTART;VALUE=DATE:20260630
DTEND;VALUE=DATE:20260703
DTSTAMP:20260421T084658
CREATED:20260213T090551Z
LAST-MODIFIED:20260213T092827Z
UID:20414-1782777600-1783036799@www.fomentofundacion.com
SUMMARY:Examenes de PAU (Convocatoria Extraordinaria)
DESCRIPTION:PAU 2026 (Prueba de Acceso a la  Universidad)\n  \n 
URL:https://www.fomentofundacion.com/evento/examenes-de-evau/
CATEGORIES:1º Bachillerato,2º Bachillerato,Alumni
ATTACH;FMTTYPE=image/jpeg:https://www.fomentofundacion.com/wp-content/uploads/2025/05/PAU25.jpg
END:VEVENT
END:VCALENDAR