BEGIN:VCALENDAR
VERSION:2.0
PRODID:-//Fomento Fundación - ECPv6.15.11//NONSGML v1.0//EN
CALSCALE:GREGORIAN
METHOD:PUBLISH
X-ORIGINAL-URL:https://www.fomentofundacion.com
X-WR-CALDESC:Eventos para Fomento Fundación
REFRESH-INTERVAL;VALUE=DURATION:PT1H
X-Robots-Tag:noindex
X-PUBLISHED-TTL:PT1H
BEGIN:VTIMEZONE
TZID:UTC
BEGIN:STANDARD
TZOFFSETFROM:+0000
TZOFFSETTO:+0000
TZNAME:UTC
DTSTART:20230101T000000
END:STANDARD
END:VTIMEZONE
BEGIN:VEVENT
DTSTART;VALUE=DATE:20240319
DTEND;VALUE=DATE:20240321
DTSTAMP:20260424T114929
CREATED:20240227T080008Z
LAST-MODIFIED:20240227T133406Z
UID:14605-1710806400-1710979199@www.fomentofundacion.com
SUMMARY:Mini-Aula
DESCRIPTION:Mini-Aula Orientación universitaria. \nTodo la oferta en grados de las universidades\, la EvAU\, notas de corte… con material e información que nos facilitan las distintas universidades.
URL:https://www.fomentofundacion.com/evento/mini-aula/
CATEGORIES:1º Bachillerato,2º Bachillerato,Alumni
ATTACH;FMTTYPE=image/jpeg:https://www.fomentofundacion.com/wp-content/uploads/2023/03/Miniaula23.jpg
END:VEVENT
END:VCALENDAR